BEGIN:VCALENDAR
VERSION:2.0
PRODID:-//100 Club of Comal County - ECPv6.11.2//NONSGML v1.0//EN
CALSCALE:GREGORIAN
METHOD:PUBLISH
X-ORIGINAL-URL:https://100clubofcomalcounty.org
X-WR-CALDESC:Events for 100 Club of Comal County
REFRESH-INTERVAL;VALUE=DURATION:PT1H
X-Robots-Tag:noindex
X-PUBLISHED-TTL:PT1H
BEGIN:VTIMEZONE
TZID:America/Chicago
BEGIN:DAYLIGHT
TZOFFSETFROM:-0600
TZOFFSETTO:-0500
TZNAME:CDT
DTSTART:20200308T080000
END:DAYLIGHT
BEGIN:STANDARD
TZOFFSETFROM:-0500
TZOFFSETTO:-0600
TZNAME:CST
DTSTART:20201101T070000
END:STANDARD
BEGIN:DAYLIGHT
TZOFFSETFROM:-0600
TZOFFSETTO:-0500
TZNAME:CDT
DTSTART:20210314T080000
END:DAYLIGHT
BEGIN:STANDARD
TZOFFSETFROM:-0500
TZOFFSETTO:-0600
TZNAME:CST
DTSTART:20211107T070000
END:STANDARD
BEGIN:DAYLIGHT
TZOFFSETFROM:-0600
TZOFFSETTO:-0500
TZNAME:CDT
DTSTART:20220313T080000
END:DAYLIGHT
BEGIN:STANDARD
TZOFFSETFROM:-0500
TZOFFSETTO:-0600
TZNAME:CST
DTSTART:20221106T070000
END:STANDARD
BEGIN:DAYLIGHT
TZOFFSETFROM:-0600
TZOFFSETTO:-0500
TZNAME:CDT
DTSTART:20230312T080000
END:DAYLIGHT
BEGIN:STANDARD
TZOFFSETFROM:-0500
TZOFFSETTO:-0600
TZNAME:CST
DTSTART:20231105T070000
END:STANDARD
BEGIN:DAYLIGHT
TZOFFSETFROM:-0600
TZOFFSETTO:-0500
TZNAME:CDT
DTSTART:20240310T080000
END:DAYLIGHT
BEGIN:STANDARD
TZOFFSETFROM:-0500
TZOFFSETTO:-0600
TZNAME:CST
DTSTART:20241103T070000
END:STANDARD
BEGIN:DAYLIGHT
TZOFFSETFROM:-0600
TZOFFSETTO:-0500
TZNAME:CDT
DTSTART:20250309T080000
END:DAYLIGHT
BEGIN:STANDARD
TZOFFSETFROM:-0500
TZOFFSETTO:-0600
TZNAME:CST
DTSTART:20251102T070000
END:STANDARD
BEGIN:DAYLIGHT
TZOFFSETFROM:-0600
TZOFFSETTO:-0500
TZNAME:CDT
DTSTART:20260308T080000
END:DAYLIGHT
BEGIN:STANDARD
TZOFFSETFROM:-0500
TZOFFSETTO:-0600
TZNAME:CST
DTSTART:20261101T070000
END:STANDARD
END:VTIMEZONE
BEGIN:VEVENT
DTSTART;TZID=America/Chicago:20260407T180000
DTEND;TZID=America/Chicago:20260407T203000
DTSTAMP:20260425T105554
CREATED:20251112T165952Z
LAST-MODIFIED:20251114T013138Z
UID:27932-1775584800-1775593800@100clubofcomalcounty.org
SUMMARY:The 100 Club of Comal County Annual Dinner 2026
DESCRIPTION:> CLICK HERE TO PURCHASE TICKETS <\nThe 100 Club of Comal County invites you to join our Contributors\, Law Enforcement\, Firefighters\, and EMT Personnel representatives at our Annual Contributor Dinner.\nTuesday\, April 7\, 2026 – 6:00 – 8:30 pm\nNew Braunfels Civic and Convention Center\n375 South Castell Avenue\, New Braunfels\, TX 78130 \nPLEASE JOIN US FOR A SPECIAL EVENING HONORING OUR FIRST RESPONDERS\n\nOur Annual First Responders’ Award for Exceptional Achievement\nSpecial Guest Speaker: Colonel Doug “Stoli” Nikolai\, Air Force\, Retired\nRaffle\n\nYour donations to The 100 Club of Comal County make it possible to immediately assist the surviving families of Law Enforcement Officers\, Firefighters\, Emergency Medical Service Personnel\, or Jailers injured or killed in the line of duty. The 100 Club is a 501 (c)(3) non-profit organization. 830-899-0100 \nPlease respond by April 1\, 2026.\nFor any questions\, please contact us HERE \nThe 100 Club of Comal County\, Inc.\nP. O. Box 310148\nNew Braunfels\, TX 78131-0418 \nSPONSORSHIP OPPORTUNITIES\nAll In Event Sponsor – $1\,500\n8 Dinner Tickets at a Reserved Table\nVerbal Recognition at the Annual Dinner\nLogo on the 100 Club of Comal County Website\nLogo on the 100 Club of Comal County Facebook Page\nLogo or Company Name displayed at the buffet and beverage table\nSignage at the banquet entrance\nRecognized in the event program\nFront-row table placement \nGold Sponsor – $1\,000\n8 Dinner Tickets at a Reserved Table\nLogo on the 100 Club of Comal County Website\nLogo on the 100 Club of Comal County Facebook Page\nSignage at the banquet entrance\nRecognized in the event program \nSilver Sponsor – $750\n8 Dinner Tickets at a Reserved Table\nLogo on the 100 Club of Comal County Website\nLogo on the 100 Club of Comal County Facebook Page\nRecognized in the event program \nBronze Sponsor – $500\n8 Dinner Tickets at a Reserved Table\nSignage on the Dinner Table\nLogo on the 100 Club of Comal County Facebook Page\nIndividual Tickets – $40 \n— \nUnreserved Seating (10 to a table)\nCasual Dress (Open Bar)\nTable placement according to sponsorship level
URL:https://100clubofcomalcounty.org/event/the-100-club-of-comal-county-annual-dinner-2/
LOCATION:New Braunfels Civic Center\, 375 S Castell Ave\, New Braunfels\, Texas\, 78130
CATEGORIES:100 Club of Comal County
ATTACH;FMTTYPE=image/jpeg:https://100clubofcomalcounty.org/wp/wp-content/uploads/2024/04/100cc_23.jpg
END:VEVENT
BEGIN:VEVENT
DTSTART;TZID=America/Chicago:20260403T110000
DTEND;TZID=America/Chicago:20260403T130000
DTSTAMP:20260425T105554
CREATED:20260323T165306Z
LAST-MODIFIED:20260323T165352Z
UID:28199-1775214000-1775221200@100clubofcomalcounty.org
SUMMARY:McDonald's Good Friday Event 2026
DESCRIPTION:McDonald’s of South Central Texas Partners with 100 Club and EOW Relief Chapters for Good Friday Fundraiser to Support First Responders\n(March 19\, 2026) — McDonald’s of South Central Texas is proud to announce its continued partnership with local 100 Club and EOW Relief Chapters for the annual Good Friday Fundraiser. On Friday\, April 3rd\, from 11:00 AM to 1:00 PM\, participating McDonald’s restaurants across the region will donate 10% of all sales to the local chapters below. \n\nParticipating 100 Club and EOW Relief Chapters:\nHill Country 100 Club\nThe Corpus Christi Police Foundation\n100 Club of San Antonio\n100 Club of Kendall County\nEOW Relief Foundation\nThe 100 Club of Central Texas\nThe 100 Club\, Inc.\n100 Club Heart of Texas\nThe 100 Club of Comal County\, Inc.\n100 Club of Gillespie County\n\nThese non-profit organizations are dedicated to providing immediate financial and emotional support to the families of first responders who are killed or critically injured in the line of duty. They ensure that those who stand ready for the community have a safety net in their time of greatest need. \nSince its inception in 2001\, the Good Friday fundraiser has raised money for local 100 Club and EOW Relief chapters. The funds help provide immediate assistance following a tragedy\, as well as ongoing support for mortgages\, health insurance\, and educational scholarships for surviving family members. \nEvent Details: \n\nWhat: Local McDonald’s & 100 Club/ EOW Relief Good Friday Fundraiser\nWhen: Friday\, April 3\, 2026\, from 11:00 AM – 1:00 PM\nWhere:\n\n1201 N IH-35\, New Braunfels  (Hwy 46 & IH-35)\n1035 IH-35\, New Braunfels  (Walnut & IH-35)\n8036 FM 2673\, Canyon Lake  (Startzville)\n4142 Loop 337\, New Braunfels  (The Pilot Station)\n1761 State Hwy 46 W\, New Braunfels  (HEB Parking Lot)\n21600 IH-35 N\, Schertz\, TX  (IH-35 & FM 1103)\n7765 Hwy 281 N\, Spring Branch\n20615 State Hwy 46\, Bulverde\n304 FM 306\, New Braunfels\, TX 78130\n\n\nImpact: 10% of all sales during the window will be donated to the 100 Club and EOW Relief chapters\n\nAbout McDonald’s of South Central Texas\nMcDonald’s of South Central Texas is a co-operative of local business owners who own and operate more than 320 restaurants throughout the region. They are committed to giving back to the communities they serve through various local charities and initiatives.
URL:https://100clubofcomalcounty.org/event/mcdonalds-good-friday-event-2026/
LOCATION:See the list of participating McDonald’s in the post above
CATEGORIES:100 Club of Comal County
END:VEVENT
BEGIN:VEVENT
DTSTART;TZID=America/Chicago:20230411T180000
DTEND;TZID=America/Chicago:20230411T210000
DTSTAMP:20260425T105554
CREATED:20230118T223224Z
LAST-MODIFIED:20230118T233549Z
UID:27592-1681236000-1681246800@100clubofcomalcounty.org
SUMMARY:The 100 Club of Comal County Annual Dinner
DESCRIPTION:Save the date for the 100 Club of Comal County’s Annual Dinner on Tuesday\, April 11th at 6:00 pm. Tickets will go on sale soon!
URL:https://100clubofcomalcounty.org/event/the-100-club-of-comal-county-annual-dinner/
LOCATION:New Braunfels Civic Center\, 375 S Castell Ave\, New Braunfels\, Texas\, 78130
CATEGORIES:100 Club of Comal County
END:VEVENT
BEGIN:VEVENT
DTSTART;TZID=America/Chicago:20200721T170000
DTEND;TZID=America/Chicago:20200721T170000
DTSTAMP:20260425T105554
CREATED:20200226T192034Z
LAST-MODIFIED:20200226T192034Z
UID:26948-1595350800-1595350800@100clubofcomalcounty.org
SUMMARY:Quarterly Meeting
DESCRIPTION:Quarterly meeting for The 100 Club of Comal County. All are welcome to attend!
URL:https://100clubofcomalcounty.org/event/quarterly-meeting-2/
LOCATION:Comal County Sheriff’s Office\, 3005 W San Antonio St.\, New Braunfels\, Tx\, 78130
CATEGORIES:100 Club of Comal County
END:VEVENT
BEGIN:VEVENT
DTSTART;TZID=America/Chicago:20200421T170000
DTEND;TZID=America/Chicago:20200421T170000
DTSTAMP:20260425T105554
CREATED:20200226T191925Z
LAST-MODIFIED:20200420T050210Z
UID:26946-1587488400-1587488400@100clubofcomalcounty.org
SUMMARY:Quarterly Meeting (Canceled)
DESCRIPTION:This meeting has been canceled. Thanks for your understanding.
URL:https://100clubofcomalcounty.org/event/quarterly-meeting/
LOCATION:Comal County Sheriff’s Office\, 3005 W San Antonio St.\, New Braunfels\, Tx\, 78130
CATEGORIES:100 Club of Comal County
END:VEVENT
BEGIN:VEVENT
DTSTART;TZID=America/Chicago:20200411T080000
DTEND;TZID=America/Chicago:20200411T160000
DTSTAMP:20260425T105554
CREATED:20200226T195238Z
LAST-MODIFIED:20200318T214901Z
UID:26975-1586592000-1586620800@100clubofcomalcounty.org
SUMMARY:Garden Ridge Car Show (CANCELED)
DESCRIPTION:More info to come!
URL:https://100clubofcomalcounty.org/event/garden-ridge-car-show/
LOCATION:Garden Ridge Community Center\, 9400 Municipal Parkway\, Garden Ridge\, Texas\, 78266
CATEGORIES:100 Club of Comal County
END:VEVENT
BEGIN:VEVENT
DTSTART;TZID=America/Chicago:20200410T110000
DTEND;TZID=America/Chicago:20200410T140000
DTSTAMP:20260425T105554
CREATED:20200226T192712Z
LAST-MODIFIED:20200318T215406Z
UID:26956-1586516400-1586527200@100clubofcomalcounty.org
SUMMARY:McDonald's Good Friday Fundraiser (CANCELED)
DESCRIPTION:*Canceled until further notice.\n﻿ \nVisit the McDonald’s locations above to support those who protect us!\nThe annual McDonald’s Good Friday Fundraiser is right around the corner on April 10th\, from 11am – 2pm. \n\nThe 8 McDonald’s locations participating here in Comal County are: \n\n1.     1201 N IH-35\, New Braunfels  (Hwy 46 & HI-35)\n2.     1035 IH-35\, New Braunfels  (Walnut & IH-35)\n3.     8036 FM 2673\, Canyon Lake  (Startzville)\n4.     3132 Loop 337\, New Braunfels  (The Pilot Station)\n5.     1761 State Hwy 46 W\, New Braunfels  (HEB Parking Lot)\n6.     21600 IH-35 N\, Schertz\, TX  (IH-35 & FM 1103)\n7.     7765 Hwy 281 N\, Spring Branch\n8.     2015 State Hwy 46\, Bulverde\n\nThank you McDonald’s for supporting those who protect us!
URL:https://100clubofcomalcounty.org/event/mcdonalds-good-friday-fundraiser/
CATEGORIES:100 Club of Comal County
END:VEVENT
END:VCALENDAR